BEGIN:VCALENDAR
VERSION:2.0
PRODID:-//St. Andrew&#039;s Episcopal Church - ECPv6.15.20//NONSGML v1.0//EN
CALSCALE:GREGORIAN
METHOD:PUBLISH
X-ORIGINAL-URL:https://standrewkc.org
X-WR-CALDESC:Events for St. Andrew&#039;s Episcopal Church
REFRESH-INTERVAL;VALUE=DURATION:PT1H
X-Robots-Tag:noindex
X-PUBLISHED-TTL:PT1H
BEGIN:VTIMEZONE
TZID:America/Chicago
BEGIN:DAYLIGHT
TZOFFSETFROM:-0600
TZOFFSETTO:-0500
TZNAME:CDT
DTSTART:20250309T080000
END:DAYLIGHT
BEGIN:STANDARD
TZOFFSETFROM:-0500
TZOFFSETTO:-0600
TZNAME:CST
DTSTART:20251102T070000
END:STANDARD
BEGIN:DAYLIGHT
TZOFFSETFROM:-0600
TZOFFSETTO:-0500
TZNAME:CDT
DTSTART:20260308T080000
END:DAYLIGHT
BEGIN:STANDARD
TZOFFSETFROM:-0500
TZOFFSETTO:-0600
TZNAME:CST
DTSTART:20261101T070000
END:STANDARD
BEGIN:DAYLIGHT
TZOFFSETFROM:-0600
TZOFFSETTO:-0500
TZNAME:CDT
DTSTART:20270314T080000
END:DAYLIGHT
BEGIN:STANDARD
TZOFFSETFROM:-0500
TZOFFSETTO:-0600
TZNAME:CST
DTSTART:20271107T070000
END:STANDARD
END:VTIMEZONE
BEGIN:VEVENT
DTSTART;TZID=America/Chicago:20260426T170000
DTEND;TZID=America/Chicago:20260426T210000
DTSTAMP:20260424T033757
CREATED:20230428T040627Z
LAST-MODIFIED:20260331T175546Z
UID:1221-1777222800-1777237200@standrewkc.org
SUMMARY:Haiti Benefit
DESCRIPTION:You’re invited to enjoy an evening in the Caribbean at HJ’s Youth and Community Center on April 26 at 5 p.m. Sip cocktails\, munch on delicious appetizers\, and jam to festive music. Our Haiti benefit supports the lunch program at our partner school and church\, St. Augustin\, in Maniche\, Haiti. To RSVP\, click here. \nRead more about our Haiti partnership.
URL:https://standrewkc.org/calendar/haiti-benefit/
LOCATION:HJ’s Youth and Community Center\, 6425 Wornall Road\, Kansas City\, MO\, 64113\, United States
CATEGORIES:Outreach/Serve
ATTACH;FMTTYPE=image/jpeg:https://standrewkc.org/wp-content/uploads/2023/04/2026-Haiti-Benefit-Presentation.jpg
END:VEVENT
BEGIN:VEVENT
DTSTART;TZID=America/Chicago:20260503T170000
DTEND;TZID=America/Chicago:20260503T190000
DTSTAMP:20260424T033757
CREATED:20260410T204530Z
LAST-MODIFIED:20260410T204541Z
UID:2877-1777827600-1777834800@standrewkc.org
SUMMARY:An Evening of Entertainment at the Cabaret
DESCRIPTION:An Evening of Entertainment at the Cabaret\nSunday\, May 3\, 5:00 PM – St. Andrew’s Episcopal Church\n6401 Wornall Terr.\, Kansas City\, Missouri 64113\n\nPlease\, invite family\, friends and neighbors to this event as a way to introduce them to St. Andrew!\n\nThe Parish Choir Presents the Music of Broadway\, Hollywood and beyond in a Cabaret Setting. Similar to the wine cellars of France in the 1800’s (where the name meaning ‘tavern’ originated) offering a Cabaret environment for small groups of artists and bohemians gathered for creative impromptu performances with peers. Our evening will consist of music from Spamalot\, Oklahoma\, Wicked\, Prince of Egypt\, Westside Story and many\, many more.\n\nWine\, treats and non-alcoholic beverages will be available on each table seating six people. Individual seats are $30\, or a table for six is a $150. Tickets/tables can be reserved via email: thomas@standrewkc.org (payment details will be sent in reply to online reservations).\n\nProceeds from this event will go toward supporting choir events\, the choir travel fund\, fellowship opportunities\, and more.
URL:https://standrewkc.org/calendar/an-evening-of-entertainment-at-the-cabaret/
LOCATION:St. Andrew’s Episcopal Church\, 6401 Wornall Terrace\, Kansas City\, MO\, 64113\, United States
CATEGORIES:Music
ATTACH;FMTTYPE=image/jpeg:https://standrewkc.org/wp-content/uploads/2026/04/Cabaret-Presentation.jpg
END:VEVENT
BEGIN:VEVENT
DTSTART;VALUE=DATE:20260529
DTEND;VALUE=DATE:20260601
DTSTAMP:20260424T033757
CREATED:20260410T204826Z
LAST-MODIFIED:20260410T204826Z
UID:2879-1780012800-1780271999@standrewkc.org
SUMMARY:Practicing the Presence of God Retreat
DESCRIPTION:Practicing the Presence of God Retreat \nMay 29–31\, 2026 | Savior Pastoral Center (Kansas City\, KS) \nJoin St. Andrew’s Contemplative Ministries Commission for a two-night guided silent retreat led by Rev. Canon Lisa Senuta\, centered on the teachings of Brother Lawrence.  \nThis retreat offers gentle guidance into silence\, communal prayer\, reflection\, and spiritual direction—whether it’s your first silent retreat or a familiar practice. Come experience rest\, community\, and a deeper awareness of God’s presence in daily life. \nDetails: \n• Begins Friday\, May 29 at 5 p.m. (check-in 3–5 p.m.); concludes Sunday at noon \n• $250/per person\, single accommodation; $210/per person\, double accommodation\, includes meals. \n• Simple accommodations with private baths (Strecker Suites) \nParticipants are asked to attend the full weekend. Questions? Contact Mtr. Rita Kendagor (mtrrita@standrewkc.org) or Ann Holliday.
URL:https://standrewkc.org/calendar/practicing-the-presence-of-god-retreat/
LOCATION:Savior Pastoral Center\, 12601 Parallel Pkwy\, Kansas City\, KS\, 66109\, United States
ATTACH;FMTTYPE=image/jpeg:https://standrewkc.org/wp-content/uploads/2026/04/silent-retreat-26-Presentation.jpg
END:VEVENT
END:VCALENDAR