BEGIN:VCALENDAR
VERSION:2.0
PRODID:-//St. Andrew&#039;s Episcopal Church - ECPv6.15.20//NONSGML v1.0//EN
CALSCALE:GREGORIAN
METHOD:PUBLISH
X-ORIGINAL-URL:https://standrewkc.org
X-WR-CALDESC:Events for St. Andrew&#039;s Episcopal Church
REFRESH-INTERVAL;VALUE=DURATION:PT1H
X-Robots-Tag:noindex
X-PUBLISHED-TTL:PT1H
BEGIN:VTIMEZONE
TZID:America/Chicago
BEGIN:DAYLIGHT
TZOFFSETFROM:-0600
TZOFFSETTO:-0500
TZNAME:CDT
DTSTART:20240310T080000
END:DAYLIGHT
BEGIN:STANDARD
TZOFFSETFROM:-0500
TZOFFSETTO:-0600
TZNAME:CST
DTSTART:20241103T070000
END:STANDARD
BEGIN:DAYLIGHT
TZOFFSETFROM:-0600
TZOFFSETTO:-0500
TZNAME:CDT
DTSTART:20250309T080000
END:DAYLIGHT
BEGIN:STANDARD
TZOFFSETFROM:-0500
TZOFFSETTO:-0600
TZNAME:CST
DTSTART:20251102T070000
END:STANDARD
BEGIN:DAYLIGHT
TZOFFSETFROM:-0600
TZOFFSETTO:-0500
TZNAME:CDT
DTSTART:20260308T080000
END:DAYLIGHT
BEGIN:STANDARD
TZOFFSETFROM:-0500
TZOFFSETTO:-0600
TZNAME:CST
DTSTART:20261101T070000
END:STANDARD
END:VTIMEZONE
BEGIN:VEVENT
DTSTART;TZID=America/Chicago:20250808T173000
DTEND;TZID=America/Chicago:20250808T203000
DTSTAMP:20260422T033622
CREATED:20250525T010927Z
LAST-MODIFIED:20250725T205454Z
UID:2446-1754674200-1754685000@standrewkc.org
SUMMARY:VBS 2.0: Faith & Fun Fridays
DESCRIPTION:Mark your calendars! This summer\, we’re launching a new event series called VBS 2.0 Kickoff: Kid’s Campfire & Parent’s Night Out \n📅 August 8 – Carnival of Joy \n🕠 5:30–8:30 PM | 📍 HJ’S | Ages: Preschool–5th Grade \nKids will enjoy games\, crafts\, snacks\, and tons of fun while parents get a well-deserved evening off! \nThings you need to know: \n\nKids will be all dropped off at HJ’s community center\nDinner will be served\nPlease rsvp here
URL:https://standrewkc.org/calendar/vbs-2-0-faith-fun-fridays/
LOCATION:HJ’s Youth and Community Center\, 6425 Wornall Road\, Kansas City\, MO\, 64113\, United States
CATEGORIES:Children
ATTACH;FMTTYPE=image/jpeg:https://standrewkc.org/wp-content/uploads/2025/06/VBS-2.0-Presentation-aug.jpg
END:VEVENT
BEGIN:VEVENT
DTSTART;TZID=America/Chicago:20250813T180000
DTEND;TZID=America/Chicago:20250813T190000
DTSTAMP:20260422T033622
CREATED:20240730T220115Z
LAST-MODIFIED:20250725T205405Z
UID:2031-1755108000-1755111600@standrewkc.org
SUMMARY:Summer Taizé Worship
DESCRIPTION:Join us this summer for Taizé—a contemplative service of prayer\, silence\, and song. Rooted in the ecumenical Christian tradition of the Taizé Community in France\, these meditative services invite us to slow down and listen deeply to the voice of God. Through simple\, repeated chants\, candlelight\, and extended moments of stillness\, we create space for reflection\, renewal\, and peace. All are welcome\, whether you’re new to Taizé or have been attending for years. Wednesday\, Aug. 13.
URL:https://standrewkc.org/calendar/taize-worship-3/
LOCATION:St. Andrew’s Episcopal Church\, 6401 Wornall Terrace\, Kansas City\, MO\, 64113\, United States
ATTACH;FMTTYPE=image/jpeg:https://standrewkc.org/wp-content/uploads/2025/07/Taize-aug.jpg
END:VEVENT
BEGIN:VEVENT
DTSTART;TZID=America/Chicago:20250823T090000
DTEND;TZID=America/Chicago:20250823T120000
DTSTAMP:20260422T033622
CREATED:20250613T194944Z
LAST-MODIFIED:20250731T171010Z
UID:2461-1755939600-1755950400@standrewkc.org
SUMMARY:Silent Saturdays
DESCRIPTION:Silent SaturdaysStep into stillness this summer. Join us for a peaceful morning of Centering Prayer\, held from 9:00 AM to 12:00 PM on *Date has been changed to August 23*. We’ll gather in silence for a series of 20-minute sits with short breaks between—an opportunity to deepen your practice and rest in the quiet presence of community. \nAll are welcome. No experience necessary. \nContact Mtr. Rita Kendagor for more info.
URL:https://standrewkc.org/calendar/silent-saturdays/
LOCATION:KS
ATTACH;FMTTYPE=image/jpeg:https://standrewkc.org/wp-content/uploads/2025/06/Silent-Saturdays-Presentation-aug.jpg
END:VEVENT
END:VCALENDAR